BEGIN:VCALENDAR
VERSION:2.0
PRODID:-//taviti/caldav-go//NONSGML v1.0.0//EN
BEGIN:VEVENT
UID:79086e23-3ee5-48b6-9319-e1da89736e38
DTSTAMP:20260421T110323Z
DTSTART:20260108T020000Z
DURATION:PT1H40M
DESCRIPTION:Practice: 30m0s\nQualifying: 30m0s\nRace: 20m0s\nRace (Reverse Grid): 20m0s\n\n30 entrants in: Kart 125 Shifter
LOCATION:Poznan, Poland
SUMMARY:Event at Tor Poznań - Drift, Poznan, Poland (Shifter Karts or sum'n)
URL;VALUE=URI:https://na-wcw.realrookie.racing/championship/79456971-b4a2-4926-bdbd-082105c6d19f
END:VEVENT
END:VCALENDAR