BEGIN:VCALENDAR
VERSION:2.0
PRODID:-//taviti/caldav-go//NONSGML v1.0.0//EN
BEGIN:VEVENT
UID:81f531bd-c71e-4b32-bb28-1a1d2bbd54b0
DTSTAMP:20260421T110243Z
DTSTART:20251218T020000Z
DURATION:PT1H40M
DESCRIPTION:Practice: 30m0s\nQualifying: 30m0s\nRace: 20m0s\nRace (Reverse Grid): 20m0s\n\n12 entrants in: Toyota Yaris Rally1 2022 Gravel
LOCATION:Sortavala, Russia
SUMMARY:Event at Karelia Cross, Sortavala, Russia (Real Rookie Rally)
URL;VALUE=URI:https://na-wcw.realrookie.racing/championship/6344d1a3-c8e2-494b-825f-56128ef60e09
END:VEVENT
END:VCALENDAR