BEGIN:VCALENDAR
VERSION:2.0
PRODID:-//taviti/caldav-go//NONSGML v1.0.0//EN
BEGIN:VEVENT
UID:a1482e32-d8cd-4708-a7e1-92758d6b346a
DTSTAMP:20260423T100035Z
DTSTART:20260115T020000Z
DURATION:PT1H40M
DESCRIPTION:Practice: 30m0s\nQualifying: 30m0s\nRace: 20m0s\nRace (Reverse Grid): 20m0s\n\n24 entrants in: Kart 125 Shifter
LOCATION:Fantasy, Scotland
SUMMARY:Event at Highlands Short, Fantasy, Scotland (Cobble Kart Chaos)
URL;VALUE=URI:https://na-wcw.realrookie.racing/championship/54a8760f-e76d-4728-bb7d-2914c524fc51
END:VEVENT
END:VCALENDAR