BEGIN:VCALENDAR
VERSION:2.0
PRODID:-//taviti/caldav-go//NONSGML v1.0.0//EN
BEGIN:VEVENT
UID:2fabb19c-1cd5-43bd-890a-03b95cba4696
DTSTAMP:20260423T100752Z
DTSTART:20260409T010000Z
DURATION:PT1H40M
DESCRIPTION:Practice: 30m0s\nQualifying: 30m0s\nRace: 20m0s\nRace (Reverse Grid): 20m0s\n\n16 entrants in: Kart 125 Shifter
LOCATION:Sonoma, CA, USA
SUMMARY:Event at Kart - Sonoma Grand Prix, Sonoma, CA, USA (NA - Kart Open Season 1 - Real Rookie Racing - https://tekly.racing)
URL;VALUE=URI:https://na-wcw.realrookie.racing/championship/324f04ca-3f3a-47cd-8a54-6b0443565503
END:VEVENT
BEGIN:VEVENT
UID:933c03ca-7f4f-43ab-b846-48d02562f721
DTSTAMP:20260423T100752Z
DTSTART:20260416T010000Z
DURATION:PT1H40M
DESCRIPTION:Practice: 30m0s\nQualifying: 30m0s\nRace: 20m0s\nRace (Reverse Grid): 20m0s\n\n16 entrants in: Kart 125 Shifter
LOCATION:Los Arcos, Spain
SUMMARY:Event at Kart - Los Arcos, Los Arcos, Spain (NA - Kart Open Season 1 - Real Rookie Racing - https://tekly.racing)
URL;VALUE=URI:https://na-wcw.realrookie.racing/championship/324f04ca-3f3a-47cd-8a54-6b0443565503
END:VEVENT
BEGIN:VEVENT
UID:9a26ba39-0103-4c68-8cd6-f224efbe00d4
DTSTAMP:20260423T100752Z
DTSTART:20260423T010000Z
DURATION:PT1H40M
DESCRIPTION:Practice: 30m0s\nQualifying: 30m0s\nRace: 20m0s\nRace (Reverse Grid): 20m0s\n\n16 entrants in: Kart 125 Shifter
LOCATION:Villarcayo, Spain
SUMMARY:Event at Kart - Villarcayo, Villarcayo, Spain (NA - Kart Open Season 1 - Real Rookie Racing - https://tekly.racing)
URL;VALUE=URI:https://na-wcw.realrookie.racing/championship/324f04ca-3f3a-47cd-8a54-6b0443565503
END:VEVENT
BEGIN:VEVENT
UID:582c0e90-2335-4ef7-82cd-d31602eed3b0
DTSTAMP:20260423T100752Z
DTSTART:20260430T010000Z
DURATION:PT1H40M
DESCRIPTION:Practice: 30m0s\nQualifying: 30m0s\nRace: 20m0s\nRace (Reverse Grid): 20m0s\n\n16 entrants in: Kart 125 Shifter
LOCATION:Guenes, Spain
SUMMARY:Event at Kart - IngeKart, Guenes, Spain (NA - Kart Open Season 1 - Real Rookie Racing - https://tekly.racing)
URL;VALUE=URI:https://na-wcw.realrookie.racing/championship/324f04ca-3f3a-47cd-8a54-6b0443565503
END:VEVENT
BEGIN:VEVENT
UID:4c5866f9-b3f9-4439-b4cc-33a7cecee2ce
DTSTAMP:20260423T100752Z
DTSTART:20260507T010000Z
DURATION:PT1H40M
DESCRIPTION:Practice: 30m0s\nQualifying: 30m0s\nRace: 20m0s\nRace (Reverse Grid): 20m0s\n\n16 entrants in: Kart 125 Shifter
LOCATION:Poznan, Poland
SUMMARY:Event at Tor Poznań - Drift, Poznan, Poland (NA - Kart Open Season 1 - Real Rookie Racing - https://tekly.racing)
URL;VALUE=URI:https://na-wcw.realrookie.racing/championship/324f04ca-3f3a-47cd-8a54-6b0443565503
END:VEVENT
BEGIN:VEVENT
UID:63a43619-212a-4715-a64a-940dcd451d18
DTSTAMP:20260423T100752Z
DTSTART:20260514T010000Z
DURATION:PT1H50M
DESCRIPTION:Practice: 25m0s\nQualifying: 25m0s\nRace: 30m0s\nRace (Reverse Grid): 30m0s\n\n16 entrants in: Kart 125 Shifter
LOCATION:Tokyo, Japan
SUMMARY:Event at Kart - Shinjuku, Tokyo, Japan (NA - Kart Open Season 1 - Real Rookie Racing - https://tekly.racing)
URL;VALUE=URI:https://na-wcw.realrookie.racing/championship/324f04ca-3f3a-47cd-8a54-6b0443565503
END:VEVENT
END:VCALENDAR