BEGIN:VCALENDAR
VERSION:2.0
PRODID:-//taviti/caldav-go//NONSGML v1.0.0//EN
BEGIN:VEVENT
UID:445e50d8-8124-4264-8a1d-56bc8a1e6099
DTSTAMP:20260423T095943Z
DTSTART:20260122T020000Z
DURATION:PT1H40M
DESCRIPTION:Practice: 40m0s\nQualifying: 20m0s\nRace: 20m0s\nRace (Reverse Grid): 20m0s\n\n16 entrants in: Abarth 500 Assetto Corse, MAD Formula Team MFT01 EVO
LOCATION:Nurburg, Germany
SUMMARY:Event at Kleine Nordschleife, Nurburg, Germany (Endurance Practice But Everythings Wrong)
URL;VALUE=URI:https://na-wcw.realrookie.racing/championship/0f0ec700-139d-4f34-9ebe-e40408f9b041
END:VEVENT
END:VCALENDAR